BEGIN:VCALENDAR
VERSION:2.0
PRODID:-//Yoga GuruKulam - ECPv6.15.20//NONSGML v1.0//EN
CALSCALE:GREGORIAN
METHOD:PUBLISH
X-ORIGINAL-URL:https://yoga-gurukulam.com
X-WR-CALDESC:Events for Yoga GuruKulam
REFRESH-INTERVAL;VALUE=DURATION:PT1H
X-Robots-Tag:noindex
X-PUBLISHED-TTL:PT1H
BEGIN:VTIMEZONE
TZID:UTC
BEGIN:STANDARD
TZOFFSETFROM:+0000
TZOFFSETTO:+0000
TZNAME:UTC
DTSTART:20250101T000000
END:STANDARD
END:VTIMEZONE
BEGIN:VEVENT
DTSTART;TZID=UTC:20260406T173000
DTEND;TZID=UTC:20260426T183000
DTSTAMP:20260422T090452
CREATED:20260328T214608Z
LAST-MODIFIED:20260329T045826Z
UID:3113-1775496600-1777228200@yoga-gurukulam.com
SUMMARY:🌼 Children's Program
DESCRIPTION:🌼 Children’s Yoga & Wellness Program (Ages 7–13)\n“Starting yoga early on in life makes a big difference for the development of the body and brain. We take care to teach children asanas that are suitable for them.” – Sadhguru \nA thoughtfully designed online program that introduces children to yoga through simple\, engaging\, and life-enhancing practices. \nThis program creates a nurturing space where children can grow\, explore\, and joyfully blossom into their natural potential. \n\n✨ About the Program\n\nConducted live & interactive sessions\nLed with care\, love\, and joy\nGuided by Certified Isha Hatha Yoga Teachers trained under Sadhguru\nDesigned specifically for children aged 7–13 years\n\n\n🌈 What Children Will Experience\n\nSimple yogic practices tailored for young bodies\nFun and engaging sessions that build focus and discipline\nFoundational tools to enhance overall wellbeing\nInsights that support healthy growth and balanced living\n\n\n🌟 Program Benefits\n🧠 Mind & Focus\n\nImproves memory and concentration\nHelps reduce mental stress and tiredness\n\n💪 Physical Health\n\nSupports proper growth and development\nHelps prevent issues like obesity\, asthma\, and sinusitis\nBuilds strength\, flexibility\, and balance\n\n🌿 Holistic Wellbeing\n\nBoosts immunity\nEncourages healthy and conscious eating habits\nBuilds a strong foundation for lifelong wellbeing\n\n\n🌼 Why This Program Matters\nIn today’s fast-paced\, screen-heavy world\, children need the right tools to stay balanced\, focused\, and joyful. \nThis program offers a unique opportunity for children to: \n\nFeel more grounded and confident\nDevelop inner stability at an early age\nGrow with awareness\, clarity\, and joy\n\n\n🔔 Format\n\n📍 Online | Live Interactive Sessions\n👧🧒 Age Group: 7–13 years\n🧘‍♂️ Beginner-friendly | No prior experience needed\n\n\n🚀  Give your child the gift of balance\, focus\, and joyful growth.👉 Enroll now and support their journey towards a healthier\, happier future.
URL:https://yoga-gurukulam.com/event/childnrensprogram/
LOCATION:ZOOM
CATEGORIES:Online
ATTACH;FMTTYPE=image/jpeg:https://yoga-gurukulam.com/wp-content/uploads/2026/03/Promo-PP163-e1774760194568.jpg
END:VEVENT
END:VCALENDAR